BEGIN:VCALENDAR
VERSION:2.0
PRODID:-//eventon.com NONSGML v1.0//EN
CALSCALE:GREGORIAN
METHOD:PUBLISH
BEGIN:VEVENT
UID:69e63ba13c2fb
DTSTAMP:20260420T144345Z
DTSTART:20230609
DTEND:20230610
LOCATION:Basilika St. Anna Altötting
SUMMARY:Adoratio 2023
DESCRIPTION:Adoratio 2023\nhttps://stefan-oster.de/events/adoratio-2023/
URL:https://stefan-oster.de/events/adoratio-2023/
END:VEVENT
END:VCALENDAR