BEGIN:VCALENDAR
VERSION:2.0
PRODID:-//eventon.com NONSGML v1.0//EN
CALSCALE:GREGORIAN
METHOD:PUBLISH
BEGIN:VEVENT
UID:69e73944e40c5
DTSTAMP:20260421T084556Z
DTSTART:20230501
DTEND:20230502
LOCATION:Altötting
SUMMARY:Eröffnung des Wallfahrtsjahres
DESCRIPTION:Mit Bischof Stefan findet die Eröffnung des Wallfahrtsjahres i
 n Altötting statt.\nhttps://stefan-oster.de/events/eroeffnung-des-wallfahr
 tsjahres-3/
URL:https://stefan-oster.de/events/eroeffnung-des-wallfahrtsjahres-3/
END:VEVENT
END:VCALENDAR