BEGIN:VCALENDAR
VERSION:2.0
PRODID:-//eventon.com NONSGML v1.0//EN
CALSCALE:GREGORIAN
METHOD:PUBLISH
BEGIN:VEVENT
UID:69e67088a51e3
DTSTAMP:20260420T182928Z
DTSTART:20250518T080000Z
DTEND:20250518T215900Z
LOCATION:Basilika St. Anna Altötting
SUMMARY:100 Jahre Bayerisches Pilgerbüro - Pontifikalgottesdienst & Festakt in Altötting!
DESCRIPTION:Herzliche Einladung &#8211; zum Pontifikalgottesdienst mit Bisc
 hof Stefan Oster am 18. Mai 2025 in Altötting anlässlich des 100 Jährige
 n Jubiläums des Bayerischen Pilgerbüros!\nhttps://stefan-oster.de/events/
 100-jahre-bayerisches-pilgerbuero-pontifikalgottesdienst-festakt-in-altoett
 ing/
URL:https://stefan-oster.de/events/100-jahre-bayerisches-pilgerbuero-pontifikalgottesdienst-festakt-in-altoetting/
END:VEVENT
END:VCALENDAR