BEGIN:VCALENDAR
VERSION:2.0
PRODID:-//eventon.com NONSGML v1.0//EN
CALSCALE:GREGORIAN
METHOD:PUBLISH
BEGIN:VEVENT
UID:69e6ecc8368a6
DTSTAMP:20260421T031936Z
DTSTART:20260619
DTEND:20260620
LOCATION:Augsburg
SUMMARY:"Mission is Possible" - Kongress in Augsburg
DESCRIPTION:In einer Situation\,  in der kirchliche Bindungen schwächer we
 rden\,  Ressourcen zurückgehen und pastorale Belastungen wachsen\,  stellt
  sich vielerorts die Frage: Wie kann kirchliches Leben vor Ort lebendig ble
 iben? Der Kongress „Mission is possible“ setzt genau hier an und fragt:
  Wie können Pfarreien Menschen ansprechen\,  die auf Distanz zur Kirche ge
 gangen[..]\nhttps://stefan-oster.de/events/mission-is-possible-kongress/
URL:https://stefan-oster.de/events/mission-is-possible-kongress/
END:VEVENT
END:VCALENDAR