BEGIN:VCALENDAR
VERSION:2.0
PRODID:-//eventon.com NONSGML v1.0//EN
CALSCALE:GREGORIAN
METHOD:PUBLISH
BEGIN:VEVENT
UID:69e8d3b31641b
DTSTAMP:20260422T135707Z
DTSTART:20200406T130000Z
DTEND:20200405T220000Z
LOCATION:Dom St. Stephan Domplatz\,  94032 Passau
SUMMARY:Missa chrismatis
DESCRIPTION:Missa chrismatis\nhttps://stefan-oster.de/events/missa-chrismat
 is-2/
URL:https://stefan-oster.de/events/missa-chrismatis-2/
END:VEVENT
END:VCALENDAR