BEGIN:VCALENDAR
VERSION:2.0
PRODID:-//eventon.com NONSGML v1.0//EN
CALSCALE:GREGORIAN
METHOD:PUBLISH
BEGIN:VEVENT
UID:69e75924a98c7
DTSTAMP:20260421T110156Z
DTSTART:20200419T171500Z
DTEND:20200418T220000Z
LOCATION:Krypta der Universitätskirche St. Nikola
SUMMARY:B'n'P
DESCRIPTION:B'n'P\nhttps://stefan-oster.de/events/bnp-21/
URL:https://stefan-oster.de/events/bnp-21/
END:VEVENT
END:VCALENDAR